BEGIN:VCALENDAR
VERSION:2.0
PRODID:-//Leading Now - ECPv6.15.16.1//NONSGML v1.0//EN
CALSCALE:GREGORIAN
METHOD:PUBLISH
X-ORIGINAL-URL:https://leadingnow.org
X-WR-CALDESC:Events for Leading Now
REFRESH-INTERVAL;VALUE=DURATION:PT1H
X-Robots-Tag:noindex
X-PUBLISHED-TTL:PT1H
BEGIN:VTIMEZONE
TZID:America/New_York
BEGIN:DAYLIGHT
TZOFFSETFROM:-0500
TZOFFSETTO:-0400
TZNAME:EDT
DTSTART:20250309T070000
END:DAYLIGHT
BEGIN:STANDARD
TZOFFSETFROM:-0400
TZOFFSETTO:-0500
TZNAME:EST
DTSTART:20251102T060000
END:STANDARD
BEGIN:DAYLIGHT
TZOFFSETFROM:-0500
TZOFFSETTO:-0400
TZNAME:EDT
DTSTART:20260308T070000
END:DAYLIGHT
BEGIN:STANDARD
TZOFFSETFROM:-0400
TZOFFSETTO:-0500
TZNAME:EST
DTSTART:20261101T060000
END:STANDARD
BEGIN:DAYLIGHT
TZOFFSETFROM:-0500
TZOFFSETTO:-0400
TZNAME:EDT
DTSTART:20270314T070000
END:DAYLIGHT
BEGIN:STANDARD
TZOFFSETFROM:-0400
TZOFFSETTO:-0500
TZNAME:EST
DTSTART:20271107T060000
END:STANDARD
END:VTIMEZONE
BEGIN:VEVENT
DTSTART;TZID=America/New_York:20260304T120000
DTEND;TZID=America/New_York:20260304T123000
DTSTAMP:20260425T143751
CREATED:20260224T191928Z
LAST-MODIFIED:20260224T191928Z
UID:2519-1772625600-1772627400@leadingnow.org
SUMMARY:Cohort Info Session
DESCRIPTION:Interested in joining Leading Now? Sign up for this webinar! https://us06web.zoom.us/webinar/register/WN_APZV-C_qRG65jg-JmxS3PQ#/registration
URL:https://leadingnow.org/event/cohort-info-session/
LOCATION:Zoom
END:VEVENT
BEGIN:VEVENT
DTSTART;TZID=America/New_York:20260305T130000
DTEND;TZID=America/New_York:20260305T150000
DTSTAMP:20260425T143751
CREATED:20251024T224119Z
LAST-MODIFIED:20251024T224119Z
UID:2395-1772715600-1772722800@leadingnow.org
SUMMARY:Cohort 17 – Virtual Session #2
DESCRIPTION:
URL:https://leadingnow.org/event/cohort-17-virtual-session-2/
LOCATION:Zoom
END:VEVENT
BEGIN:VEVENT
DTSTART;TZID=America/New_York:20260310T110000
DTEND;TZID=America/New_York:20260310T123000
DTSTAMP:20260425T143751
CREATED:20260224T184359Z
LAST-MODIFIED:20260224T184359Z
UID:2512-1773140400-1773145800@leadingnow.org
SUMMARY:Learning Series: Algebra I - Research and Steps to Support Student Success
DESCRIPTION:For full members and a +1\, led by TNTP and EdResearch for Action
URL:https://leadingnow.org/event/learning-series-algebra-i-research-and-steps-to-support-student-success/
LOCATION:Zoom
END:VEVENT
BEGIN:VEVENT
DTSTART;TZID=America/New_York:20260317T120000
DTEND;TZID=America/New_York:20260317T130000
DTSTAMP:20260425T143751
CREATED:20251125T144409Z
LAST-MODIFIED:20251125T144532Z
UID:2429-1773748800-1773752400@leadingnow.org
SUMMARY:Comms Session #3: Comms 201 Part 3 - School Communication Audits
DESCRIPTION:This series is for full members and/or communications staff
URL:https://leadingnow.org/event/comms-session-3-comms-201-part-3-school-communication-audits/
LOCATION:Zoom
END:VEVENT
BEGIN:VEVENT
DTSTART;TZID=America/New_York:20260331T130000
DTEND;TZID=America/New_York:20260331T140000
DTSTAMP:20260425T143751
CREATED:20260224T191750Z
LAST-MODIFIED:20260224T191750Z
UID:2516-1774962000-1774965600@leadingnow.org
SUMMARY:EA Community: From Support to Strategic Partner
DESCRIPTION:For executive assistants of paid members\, led by Rosalyn Adams Fontanez
URL:https://leadingnow.org/event/ea-community-from-support-to-strategic-partner/
END:VEVENT
END:VCALENDAR