BEGIN:VCALENDAR
VERSION:2.0
PRODID:-//Leading Now - ECPv6.15.16.1//NONSGML v1.0//EN
CALSCALE:GREGORIAN
METHOD:PUBLISH
X-ORIGINAL-URL:https://leadingnow.org
X-WR-CALDESC:Events for Leading Now
REFRESH-INTERVAL;VALUE=DURATION:PT1H
X-Robots-Tag:noindex
X-PUBLISHED-TTL:PT1H
BEGIN:VTIMEZONE
TZID:America/New_York
BEGIN:DAYLIGHT
TZOFFSETFROM:-0500
TZOFFSETTO:-0400
TZNAME:EDT
DTSTART:20240310T070000
END:DAYLIGHT
BEGIN:STANDARD
TZOFFSETFROM:-0400
TZOFFSETTO:-0500
TZNAME:EST
DTSTART:20241103T060000
END:STANDARD
BEGIN:DAYLIGHT
TZOFFSETFROM:-0500
TZOFFSETTO:-0400
TZNAME:EDT
DTSTART:20250309T070000
END:DAYLIGHT
BEGIN:STANDARD
TZOFFSETFROM:-0400
TZOFFSETTO:-0500
TZNAME:EST
DTSTART:20251102T060000
END:STANDARD
BEGIN:DAYLIGHT
TZOFFSETFROM:-0500
TZOFFSETTO:-0400
TZNAME:EDT
DTSTART:20260308T070000
END:DAYLIGHT
BEGIN:STANDARD
TZOFFSETFROM:-0400
TZOFFSETTO:-0500
TZNAME:EST
DTSTART:20261101T060000
END:STANDARD
END:VTIMEZONE
BEGIN:VEVENT
DTSTART;TZID=America/New_York:20250109T110000
DTEND;TZID=America/New_York:20250109T130000
DTSTAMP:20260425T093812
CREATED:20241001T170843Z
LAST-MODIFIED:20241001T170843Z
UID:1943-1736420400-1736427600@leadingnow.org
SUMMARY:Cohort 14 Session #5
DESCRIPTION:
URL:https://leadingnow.org/event/cohort-14-session-5/
LOCATION:Zoom
END:VEVENT
BEGIN:VEVENT
DTSTART;TZID=America/New_York:20250121T110000
DTEND;TZID=America/New_York:20250121T120000
DTSTAMP:20260425T093812
CREATED:20241001T171600Z
LAST-MODIFIED:20241217T213507Z
UID:1948-1737457200-1737460800@leadingnow.org
SUMMARY:Monthly Briefing: Post-Inauguration with Ruthanne Buck
DESCRIPTION:For all Leading Now members
URL:https://leadingnow.org/event/leading-now-briefing-post-inauguration/
LOCATION:Zoom
END:VEVENT
BEGIN:VEVENT
DTSTART;TZID=America/New_York:20250122T120000
DTEND;TZID=America/New_York:20250122T130000
DTSTAMP:20260425T093812
CREATED:20250117T182306Z
LAST-MODIFIED:20250117T182306Z
UID:2057-1737547200-1737550800@leadingnow.org
SUMMARY:AI Readiness Workshop with aiEDU
DESCRIPTION:For members who have opted into Superintendent & Team Leadership Development\, along with a +1 from their technology team
URL:https://leadingnow.org/event/ai-readiness-workshop-with-aiedu/
LOCATION:Zoom
END:VEVENT
BEGIN:VEVENT
DTSTART;VALUE=DATE:20250128
DTEND;VALUE=DATE:20250130
DTSTAMP:20260425T093812
CREATED:20250117T181859Z
LAST-MODIFIED:20250117T181859Z
UID:2050-1738022400-1738195199@leadingnow.org
SUMMARY:Cohort 15 Kickoff
DESCRIPTION:
URL:https://leadingnow.org/event/cohort-15-kickoff/
LOCATION:Nashville\, TN
END:VEVENT
END:VCALENDAR