BEGIN:VCALENDAR
VERSION:2.0
PRODID:-//Leading Now - ECPv6.15.16.1//NONSGML v1.0//EN
CALSCALE:GREGORIAN
METHOD:PUBLISH
X-WR-CALNAME:Leading Now
X-ORIGINAL-URL:https://leadingnow.org
X-WR-CALDESC:Events for Leading Now
REFRESH-INTERVAL;VALUE=DURATION:PT1H
X-Robots-Tag:noindex
X-PUBLISHED-TTL:PT1H
BEGIN:VTIMEZONE
TZID:America/New_York
BEGIN:DAYLIGHT
TZOFFSETFROM:-0500
TZOFFSETTO:-0400
TZNAME:EDT
DTSTART:20250309T070000
END:DAYLIGHT
BEGIN:STANDARD
TZOFFSETFROM:-0400
TZOFFSETTO:-0500
TZNAME:EST
DTSTART:20251102T060000
END:STANDARD
BEGIN:DAYLIGHT
TZOFFSETFROM:-0500
TZOFFSETTO:-0400
TZNAME:EDT
DTSTART:20260308T070000
END:DAYLIGHT
BEGIN:STANDARD
TZOFFSETFROM:-0400
TZOFFSETTO:-0500
TZNAME:EST
DTSTART:20261101T060000
END:STANDARD
BEGIN:DAYLIGHT
TZOFFSETFROM:-0500
TZOFFSETTO:-0400
TZNAME:EDT
DTSTART:20270314T070000
END:DAYLIGHT
BEGIN:STANDARD
TZOFFSETFROM:-0400
TZOFFSETTO:-0500
TZNAME:EST
DTSTART:20271107T060000
END:STANDARD
END:VTIMEZONE
BEGIN:VEVENT
DTSTART;TZID=America/New_York:20260422T110000
DTEND;TZID=America/New_York:20260422T120000
DTSTAMP:20260422T014806
CREATED:20260318T154533Z
LAST-MODIFIED:20260318T155033Z
UID:2539-1776855600-1776859200@leadingnow.org
SUMMARY:Learning Series: Unlocking ELA Gains with HQIM + AI
DESCRIPTION:For full members and a +1\, 2nd session in three-session Student Outcomes Learning Series\,\nfeaturing CourseMojo and Sumner County Schools (TN)
URL:https://leadingnow.org/event/learning-series-unlocking-ela-gains-with-hqim-ai/
LOCATION:Zoom
END:VEVENT
END:VCALENDAR