BEGIN:VCALENDAR
VERSION:2.0
PRODID:-//Leading Now - ECPv6.15.16.1//NONSGML v1.0//EN
CALSCALE:GREGORIAN
METHOD:PUBLISH
X-WR-CALNAME:Leading Now
X-ORIGINAL-URL:https://leadingnow.org
X-WR-CALDESC:Events for Leading Now
REFRESH-INTERVAL;VALUE=DURATION:PT1H
X-Robots-Tag:noindex
X-PUBLISHED-TTL:PT1H
BEGIN:VTIMEZONE
TZID:America/New_York
BEGIN:DAYLIGHT
TZOFFSETFROM:-0500
TZOFFSETTO:-0400
TZNAME:EDT
DTSTART:20230312T070000
END:DAYLIGHT
BEGIN:STANDARD
TZOFFSETFROM:-0400
TZOFFSETTO:-0500
TZNAME:EST
DTSTART:20231105T060000
END:STANDARD
BEGIN:DAYLIGHT
TZOFFSETFROM:-0500
TZOFFSETTO:-0400
TZNAME:EDT
DTSTART:20240310T070000
END:DAYLIGHT
BEGIN:STANDARD
TZOFFSETFROM:-0400
TZOFFSETTO:-0500
TZNAME:EST
DTSTART:20241103T060000
END:STANDARD
BEGIN:DAYLIGHT
TZOFFSETFROM:-0500
TZOFFSETTO:-0400
TZNAME:EDT
DTSTART:20250309T070000
END:DAYLIGHT
BEGIN:STANDARD
TZOFFSETFROM:-0400
TZOFFSETTO:-0500
TZNAME:EST
DTSTART:20251102T060000
END:STANDARD
END:VTIMEZONE
BEGIN:VEVENT
DTSTART;TZID=America/New_York:20240404T170000
DTEND;TZID=America/New_York:20240404T180000
DTSTAMP:20260421T073639
CREATED:20240320T154159Z
LAST-MODIFIED:20240320T154159Z
UID:1670-1712250000-1712253600@leadingnow.org
SUMMARY:Toast and Talk with Superintendents of the Year - Zandra Jo Galván (ALAS) and Dr. Barbara Malkas (MA)
DESCRIPTION:
URL:https://leadingnow.org/event/toast-and-talk-with-superintendents-of-the-year-zandra-jo-galvan-alas-and-dr-barbara-malkas-ma/
LOCATION:Zoom
END:VEVENT
END:VCALENDAR